BEGIN:VCALENDAR
VERSION:2.0
PRODID:-//Sri Krish International Teacher Training Institute - ECPv6.15.18//NONSGML v1.0//EN
CALSCALE:GREGORIAN
METHOD:PUBLISH
X-ORIGINAL-URL:https://srikrishteachertraininginstitute.com
X-WR-CALDESC:Events for Sri Krish International Teacher Training Institute
REFRESH-INTERVAL;VALUE=DURATION:PT1H
X-Robots-Tag:noindex
X-PUBLISHED-TTL:PT1H
BEGIN:VTIMEZONE
TZID:Asia/Kolkata
BEGIN:STANDARD
TZOFFSETFROM:+0530
TZOFFSETTO:+0530
TZNAME:IST
DTSTART:20220101T000000
END:STANDARD
END:VTIMEZONE
BEGIN:VEVENT
DTSTART;TZID=Asia/Kolkata:20240301T090000
DTEND;TZID=Asia/Kolkata:20240301T123000
DTSTAMP:20260422T002123
CREATED:20240223T083221Z
LAST-MODIFIED:20240223T083221Z
UID:2453-1709283600-1709296200@srikrishteachertraininginstitute.com
SUMMARY:Farewell - Batch 9 Learners
DESCRIPTION:The knowledge and experiences gained during the time @ Sri Krish International Teacher Training Institute  will serve as a strong foundation for your teaching journey ahead. Farewell\, and may you continue to grow and evolve as an educator. We will you find fulfilment and success in shaping the minds of tomorrow.
URL:https://srikrishteachertraininginstitute.com/event/farewell-batch-9-learners/
END:VEVENT
BEGIN:VEVENT
DTSTART;VALUE=DATE:20231215
DTEND;VALUE=DATE:20231231
DTSTAMP:20260422T002123
CREATED:20231227T063105Z
LAST-MODIFIED:20231227T063105Z
UID:2402-1702598400-1703980799@srikrishteachertraininginstitute.com
SUMMARY:Model Examination - 2023 - 2024
DESCRIPTION:Assessment / Model Exam are the part of the curriculum where trainees can expose logical and analytical thinking. This Model exam helps them to understand their calibre and skill enabling to carve your path of interest.
URL:https://srikrishteachertraininginstitute.com/event/model-examination-2023-2024/
ATTACH;FMTTYPE=image/jpeg:https://srikrishteachertraininginstitute.com/wp-content/uploads/2023/12/a958f942-7c41-415c-b44d-59f2c6575866.jpg
END:VEVENT
BEGIN:VEVENT
DTSTART;VALUE=DATE:20231106
DTEND;VALUE=DATE:20231112
DTSTAMP:20260422T002123
CREATED:20231031T034001Z
LAST-MODIFIED:20231031T034001Z
UID:2071-1699228800-1699747199@srikrishteachertraininginstitute.com
SUMMARY:2nd Demo
DESCRIPTION:A demo is a mock lesson and is to show how well-prepared to teach a lesson\, how to present oneself\, and how to engage students.  It also enhance teachers’ skills\, improve classroom management\, foster a professional community\, contribute to quality education\, and ultimately lead to student success.
URL:https://srikrishteachertraininginstitute.com/event/2nd-demo/
ATTACH;FMTTYPE=image/jpeg:https://srikrishteachertraininginstitute.com/wp-content/uploads/2023/10/theroleofbod.jpg
END:VEVENT
BEGIN:VEVENT
DTSTART;TZID=Asia/Kolkata:20231027T093000
DTEND;TZID=Asia/Kolkata:20231027T110000
DTSTAMP:20260422T002123
CREATED:20231024T070722Z
LAST-MODIFIED:20231024T070722Z
UID:2028-1698399000-1698404400@srikrishteachertraininginstitute.com
SUMMARY:Speech - Regular Batch Learners
DESCRIPTION:Speech is vital for communication\, enabling the expression of thoughts\, emotions\, and ideas. It fosters social connections\, facilitates learning\, and is essential for personal and professional success.
URL:https://srikrishteachertraininginstitute.com/event/speech-regular-batch-learners/
LOCATION:Sri Krish Teacher Training Institute
ATTACH;FMTTYPE=image/jpeg:https://srikrishteachertraininginstitute.com/wp-content/uploads/2023/10/female-presenter-speaking-in-front-of-audience.jpg
END:VEVENT
END:VCALENDAR